BEGIN:VCALENDAR
VERSION:2.0
PRODID:spatie/icalendar-generator
DESCRIPTION:Events from Millard County Tourism
X-WR-CALDESC:Events from Millard County Tourism
REFRESH-INTERVAL;VALUE=DURATION:PT1440M
X-PUBLISHED-TTL:PT1440M
BEGIN:VTIMEZONE
TZID:Etc/GMT+0
BEGIN:STANDARD
DTSTART:20250805T225400Z
TZOFFSETFROM:+0000
TZOFFSETTO:+0000
END:STANDARD
END:VTIMEZONE
BEGIN:VTIMEZONE
TZID:UTC
BEGIN:STANDARD
DTSTART:20250724T152038Z
TZOFFSETFROM:+0000
TZOFFSETTO:+0000
END:STANDARD
END:VTIMEZONE
BEGIN:VEVENT
UID:106-76
DTSTAMP:20260420T152038Z
SUMMARY:30th Anniversary Kyle Petty Charity Ride to Delta Maverik
LOCATION:Delta   Delta Utah 84624
ORGANIZER;CN=Rachel.West:MAILTO:rwest@millardcounty.gov
DTSTART;TZID=Etc/GMT+0:20260502T225400
DTEND;TZID=Etc/GMT+0:20260502T235400
X-ALT-DESC;FMTTYPE=TEXT/HTML:
CATEGORIES:General
URL;VALUE=URI:https://visitmillardcounty.com/mc-events/30th-anniversary-kyl
 e-petty-charity-ride-to-delta-maverik/
METHOD:PUBLISH
END:VEVENT
END:VCALENDAR